BEGIN:VCALENDAR
VERSION:2.0
PRODID:SchoolNow
CALSCALE:GREGORIAN
BEGIN:VEVENT
UID:d06116bc-3799-11f1-884e-0a58a9feac02
DTSTAMP:20260419T142518Z
SUMMARY:CHS Graduation
URL;VALUE=URI:https://www.cantonma.org/chs/calendar/8991706/chs-graduation
DTSTART;VALUE=DATE:20270605
DTEND;VALUE=DATE:20270606
END:VEVENT
END:VCALENDAR
