BEGIN:VCALENDAR
VERSION:2.0
PRODID:SchoolNow
CALSCALE:GREGORIAN
BEGIN:VEVENT
UID:1a61e474-0772-11f1-878b-0e87d7b8f99f
DTSTAMP:20260420T085007Z
SUMMARY:School Committee Meeting
LOCATION:CHS - Distance Learning Lab (DLL)
URL;VALUE=URI:https://www.cantonma.org/calendar/8853289/school-committee-me
 eting
DTSTART:20270429T220000Z
DTEND:20270430T020000Z
END:VEVENT
END:VCALENDAR
