BEGIN:VCALENDAR
VERSION:2.0
PRODID:SchoolNow
CALSCALE:GREGORIAN
BEGIN:VEVENT
UID:1a61e122-0772-11f1-ad92-0e87d7b8f99f
DTSTAMP:20260420T085007Z
SUMMARY:School Committee Meeting
LOCATION:CHS - Distance Learning Lab (DLL)
URL;VALUE=URI:https://www.cantonma.org/calendar/8853287/school-committee-me
 eting
DTSTART:20270204T230000Z
DTEND:20270205T030000Z
END:VEVENT
END:VCALENDAR
