BEGIN:VCALENDAR
VERSION:2.0
PRODID:SchoolNow
CALSCALE:GREGORIAN
BEGIN:VEVENT
UID:1a61da42-0772-11f1-b32b-0e87d7b8f99f
DTSTAMP:20260421T030507Z
SUMMARY:School Committee Meeting
LOCATION:CHS - Distance Learning Lab (DLL)
URL;VALUE=URI:https://www.cantonma.org/calendar/8853281/school-committee-me
 eting
DTSTART:20270121T230000Z
DTEND:20270122T030000Z
END:VEVENT
END:VCALENDAR
