BEGIN:VCALENDAR
VERSION:2.0
PRODID:SchoolNow
CALSCALE:GREGORIAN
BEGIN:VEVENT
UID:1a61d51a-0772-11f1-ab95-0e87d7b8f99f
DTSTAMP:20260420T085007Z
SUMMARY:School Committee Meeting
LOCATION:CHS - Distance Learning Lab (DLL)
URL;VALUE=URI:https://www.cantonma.org/calendar/8853277/school-committee-me
 eting
DTSTART:20270408T220000Z
DTEND:20270409T020000Z
END:VEVENT
END:VCALENDAR
