BEGIN:VCALENDAR
VERSION:2.0
PRODID:SchoolNow
CALSCALE:GREGORIAN
BEGIN:VEVENT
UID:32dfca90-c505-11e9-8cea-1272b9d697d0
DTSTAMP:20190822T175102Z
SUMMARY:PreK Open House
URL;VALUE=URI:https://www.cantonma.org/calendar/2070947/prek-open-house
DTSTART:20190906T163000Z
DTEND:20190906T190000Z
END:VEVENT
END:VCALENDAR
